BEGIN:VCALENDAR
PRODID:-//Microsoft Corporation//Outlook 16.0 MIMEDIR//EN
VERSION:2.0
METHOD:PUBLISH
X-MS-OLK-FORCEINSPECTOROPEN:TRUE
BEGIN:VTIMEZONE
TZID:Romance Standard Time
BEGIN:STANDARD
DTSTART:16011028T030000
RRULE:FREQ=YEARLY;BYDAY=-1SU;BYMONTH=10
TZOFFSETFROM:+0200
TZOFFSETTO:+0100
END:STANDARD
BEGIN:DAYLIGHT
DTSTART:16010325T020000
RRULE:FREQ=YEARLY;BYDAY=-1SU;BYMONTH=3
TZOFFSETFROM:+0100
TZOFFSETTO:+0200
END:DAYLIGHT
END:VTIMEZONE
BEGIN:VEVENT
CLASS:PUBLIC
CREATED:20260415T083805Z
DESCRIPTION:Invitation – må gerne videresendes\n\n \n\nHej kære kollega
	 🚶‍♀️ \n\nI maj inviteres du til at være med i et maj‑athon\
	, hvor målet er enkelt:\n20 minutters gåtur hver dag – på en måde de
	r passer ind i din arbejdsdag.\n\nMaj‑athon – Gå Med i 20 minutter da
	gligt\n\nHvad går det ud på?\nDu vælger selv\, hvornår og hvordan du g
	år:\n– en pause i løbet af dagen\n– et gå‑møde\n– en tur før 
	eller efter arbejde\n– alene eller sammen med kolleger\n\n\nHvornår:\nH
	ele maj måned\n(20 minutter dagligt – fleksibelt tidspunkt)\n\n\nHvor:\
	nEn gåtur i nærområdet eller hvor det passer dig\n\n \n\nHvem går jeg 
	med?\nAlle medarbejdere kan deltage og det kræver ingen særlige forudsæ
	tninger. \nDu kan tage en kollega eller flere under armen og gå en tur\, 
	du kan tage et gående møde eller holde en hjernepause og gå en tur alen
	e. \nDet er helt op til dig – det vigtigste er at komme ud at gå hver d
	ag. \n\nHvordan deltager du?\nAcceptér denne kalenderinvitation og brug d
	en som din daglige påmindelse.\n\nHvad kan du få ud af det?\nGåture i l
	øbet af en arbejdsdag kan give:\n- mere energi og forbedre din koncentrat
	ion\n- give bedre humør og mindre oplevet stress\n- ilt til hjernen og en
	 aktiv pause\n\nFind mere info om kampagnen gaamed.dk/majathon <http://www
	.gaamed.dk/majathon-paa-arbejdspladsen/> \n\nEller deltag på Facebook her
	 <https://eur03.safelinks.protection.outlook.com/?url=https%3A%2F%2Ffb.me%
	2Fe%2F9LAW17M5o&data=05%7C02%7Chmscheller%40hjerteforeningen.dk%7C86d2fef6
	c719401da47c08de9927f555%7Cd7fe13fe91f84625826d8b11d0d57852%7C0%7C0%7C6391
	16594094662580%7CUnknown%7CTWFpbGZsb3d8eyJFbXB0eU1hcGkiOnRydWUsIlYiOiIwLjA
	uMDAwMCIsIlAiOiJXaW4zMiIsIkFOIjoiTWFpbCIsIldUIjoyfQ%3D%3D%7C0%7C%7C%7C&sda
	ta=yA%2FqeKYbnRkT2Jv8BNhwx8VG13kf8jDhxQyBNCi0Y5Q%3D&reserved=0> \n\nEr du 
	på Strava – så kig her <https://www.strava.com/clubs/2062943?utm_sourc
	e=android_share&utm_medium=social&share_sig=WIDJC21F1775821864&_branch_mat
	ch_id=1572262837520715458&_branch_referrer=H4sIAAAAAAAAA8soKSkottLXLy4pSix
	L1EssKNDLyczL1i8Lc6tIKfYJSTFKsq8rSk1LLSrKzEuPTyrKLy9OLbJ1TUlPBQDnf5spOwAAA
	A%3D%3D> \n\nSmå skridt tæller – og 20 minutters bevægelse kan gøre 
	en stor forskel.\n\nGod fornøjelse med maj‑athon 🌿\n\n\nGå Med  /
	 Hjerteforeningen og TrygFondens indsats for mere bevægelse i hverdagen 
	❤ \n\n\n\nKontakt: gaamed@hjerteforeningen.dk <mailto:gaamed@hjerteforen
	ingen.dk>  \n\n \n\n \n\n
DTEND;TZID="Romance Standard Time":20260501T122000
DTSTAMP:20260415T083805Z
DTSTART;TZID="Romance Standard Time":20260501T120000
LAST-MODIFIED:20260415T083805Z
LOCATION:walk & talk
PRIORITY:5
RRULE:FREQ=WEEKLY;COUNT=21;BYDAY=MO,TU,WE,TH,FR
SEQUENCE:0
SUMMARY;LANGUAGE=en-us:🚶‍♀️Maj-athon - 20 minutter hver dag 
TRANSP:OPAQUE
UID:040000008200E00074C5B7101A82E008000000004AD9C0AA0AC1DC01000000000000000
	010000000564BEF9B6AE9EA4E8119CA529EC4EA58
X-ALT-DESC;FMTTYPE=text/html:<html xmlns:v="urn:schemas-microsoft-com:vml" 
	xmlns:o="urn:schemas-microsoft-com:office:office" xmlns:w="urn:schemas-mic
	rosoft-com:office:word" xmlns:m="http://schemas.microsoft.com/office/2004/
	12/omml" xmlns="http://www.w3.org/TR/REC-html40">\n<head>\n\n<meta name="G
	enerator" content="Microsoft Word 15 (filtered medium)">\n<style><!--\n/* 
	Font Definitions */\n@font-face\n	{font-family:Wingdings\;\n	panose-1:5 0 
	0 0 0 0 0 0 0 0\;}\n@font-face\n	{font-family:"Cambria Math"\;\n	panose-1:
	2 4 5 3 5 4 6 3 2 4\;}\n@font-face\n	{font-family:Calibri\;\n	panose-1:2 1
	5 5 2 2 2 4 3 2 4\;}\n@font-face\n	{font-family:Aptos\;}\n@font-face\n	{fo
	nt-family:"Segoe UI Emoji"\;\n	panose-1:2 11 5 2 4 2 4 2 2 3\;}\n/* Style 
	Definitions */\np.MsoNormal\, li.MsoNormal\, div.MsoNormal\n	{margin:0cm\;
	\n	font-size:12.0pt\;\n	font-family:"Aptos"\,sans-serif\;\n	mso-ligatures:
	standardcontextual\;\n	mso-fareast-language:EN-US\;}\na:link\, span.MsoHyp
	erlink\n	{mso-style-priority:99\;\n	color:#467886\;\n	text-decoration:unde
	rline\;}\np.MsoPlainText\, li.MsoPlainText\, div.MsoPlainText\n	{mso-style
	-priority:99\;\n	mso-style-link:"Almindelig tekst Tegn"\;\n	margin:0cm\;\n
		font-size:11.0pt\;\n	font-family:"Calibri"\,sans-serif\;\n	mso-ligatures:
	standardcontextual\;\n	mso-fareast-language:EN-US\;}\nspan.Almindeligtekst
	Tegn\n	{mso-style-name:"Almindelig tekst Tegn"\;\n	mso-style-priority:99\;
	\n	mso-style-link:"Almindelig tekst"\;\n	font-family:"Calibri"\,sans-serif
	\;\n	mso-ligatures:standardcontextual\;\n	mso-fareast-language:EN-US\;}\ns
	pan.EmailStyle20\n	{mso-style-type:personal-compose\;\n	font-family:"Aptos
	"\,sans-serif\;\n	color:windowtext\;}\n.MsoChpDefault\n	{mso-style-type:ex
	port-only\;\n	font-size:10.0pt\;\n	mso-ligatures:none\;}\n@page WordSectio
	n1\n	{size:612.0pt 792.0pt\;\n	margin:3.0cm 2.0cm 3.0cm 2.0cm\;}\ndiv.Word
	Section1\n	{page:WordSection1\;}\n/* List Definitions */\n@list l0\n	{mso-
	list-id:527067982\;\n	mso-list-type:hybrid\;\n	mso-list-template-ids:-1000
	172006 -368824508 67502083 67502085 67502081 67502083 67502085 67502081 67
	502083 67502085\;}\n@list l0:level1\n	{mso-level-start-at:0\;\n	mso-level-
	number-format:bullet\;\n	mso-level-text:-\;\n	mso-level-tab-stop:none\;\n	
	mso-level-number-position:left\;\n	text-indent:-18.0pt\;\n	font-family:"Ap
	tos"\,sans-serif\;\n	mso-fareast-font-family:Aptos\;\n	mso-bidi-font-famil
	y:"Times New Roman"\;}\n@list l0:level2\n	{mso-level-number-format:bullet\
	;\n	mso-level-text:o\;\n	mso-level-tab-stop:none\;\n	mso-level-number-posi
	tion:left\;\n	text-indent:-18.0pt\;\n	font-family:"Courier New"\;}\n@list 
	l0:level3\n	{mso-level-number-format:bullet\;\n	mso-level-text:\;\n	mso
	-level-tab-stop:none\;\n	mso-level-number-position:left\;\n	text-indent:-1
	8.0pt\;\n	font-family:Wingdings\;}\n@list l0:level4\n	{mso-level-number-fo
	rmat:bullet\;\n	mso-level-text:\;\n	mso-level-tab-stop:none\;\n	mso-lev
	el-number-position:left\;\n	text-indent:-18.0pt\;\n	font-family:Symbol\;}\
	n@list l0:level5\n	{mso-level-number-format:bullet\;\n	mso-level-text:o\;\
	n	mso-level-tab-stop:none\;\n	mso-level-number-position:left\;\n	text-inde
	nt:-18.0pt\;\n	font-family:"Courier New"\;}\n@list l0:level6\n	{mso-level-
	number-format:bullet\;\n	mso-level-text:\;\n	mso-level-tab-stop:none\;\
	n	mso-level-number-position:left\;\n	text-indent:-18.0pt\;\n	font-family:W
	ingdings\;}\n@list l0:level7\n	{mso-level-number-format:bullet\;\n	mso-lev
	el-text:\;\n	mso-level-tab-stop:none\;\n	mso-level-number-position:left
	\;\n	text-indent:-18.0pt\;\n	font-family:Symbol\;}\n@list l0:level8\n	{mso
	-level-number-format:bullet\;\n	mso-level-text:o\;\n	mso-level-tab-stop:no
	ne\;\n	mso-level-number-position:left\;\n	text-indent:-18.0pt\;\n	font-fam
	ily:"Courier New"\;}\n@list l0:level9\n	{mso-level-number-format:bullet\;\
	n	mso-level-text:\;\n	mso-level-tab-stop:none\;\n	mso-level-number-posi
	tion:left\;\n	text-indent:-18.0pt\;\n	font-family:Wingdings\;}\n@list l1\n
		{mso-list-id:1806704260\;\n	mso-list-type:hybrid\;\n	mso-list-template-id
	s:332274014 67502081 -1 -1 -1 -1 -1 -1 -1 -1\;}\n@list l1:level1\n	{mso-le
	vel-number-format:bullet\;\n	mso-level-text:\;\n	mso-level-tab-stop:non
	e\;\n	mso-level-number-position:left\;\n	text-indent:-18.0pt\;\n	font-fami
	ly:Symbol\;}\n@list l1:level2\n	{mso-level-number-format:bullet\;\n	mso-le
	vel-text:o\;\n	mso-level-tab-stop:none\;\n	mso-level-number-position:left\
	;\n	text-indent:-18.0pt\;\n	font-family:"Courier New"\;}\n@list l1:level3\
	n	{mso-level-number-format:bullet\;\n	mso-level-text:\;\n	mso-level-tab
	-stop:none\;\n	mso-level-number-position:left\;\n	text-indent:-18.0pt\;\n	
	font-family:Wingdings\;}\n@list l1:level4\n	{mso-level-number-format:bulle
	t\;\n	mso-level-text:\;\n	mso-level-tab-stop:none\;\n	mso-level-number-
	position:left\;\n	text-indent:-18.0pt\;\n	font-family:Symbol\;}\n@list l1:
	level5\n	{mso-level-number-format:bullet\;\n	mso-level-text:o\;\n	mso-leve
	l-tab-stop:none\;\n	mso-level-number-position:left\;\n	text-indent:-18.0pt
	\;\n	font-family:"Courier New"\;}\n@list l1:level6\n	{mso-level-number-for
	mat:bullet\;\n	mso-level-text:\;\n	mso-level-tab-stop:none\;\n	mso-leve
	l-number-position:left\;\n	text-indent:-18.0pt\;\n	font-family:Wingdings\;
	}\n@list l1:level7\n	{mso-level-number-format:bullet\;\n	mso-level-text:
	\;\n	mso-level-tab-stop:none\;\n	mso-level-number-position:left\;\n	tex
	t-indent:-18.0pt\;\n	font-family:Symbol\;}\n@list l1:level8\n	{mso-level-n
	umber-format:bullet\;\n	mso-level-text:o\;\n	mso-level-tab-stop:none\;\n	m
	so-level-number-position:left\;\n	text-indent:-18.0pt\;\n	font-family:"Cou
	rier New"\;}\n@list l1:level9\n	{mso-level-number-format:bullet\;\n	mso-le
	vel-text:\;\n	mso-level-tab-stop:none\;\n	mso-level-number-position:lef
	t\;\n	text-indent:-18.0pt\;\n	font-family:Wingdings\;}\nol\n	{margin-botto
	m:0cm\;}\nul\n	{margin-bottom:0cm\;}\n--></style><!--[if gte mso 9]><xml>\
	n<o:shapedefaults v:ext="edit" spidmax="1026" />\n</xml><![endif]--><!--[i
	f gte mso 9]><xml>\n<o:shapelayout v:ext="edit">\n<o:idmap v:ext="edit" da
	ta="1" />\n</o:shapelayout></xml><![endif]-->\n</head>\n<body lang="DA" li
	nk="#467886" vlink="#96607D" style="word-wrap:break-word">\n<div class="Wo
	rdSection1">\n<p class="MsoPlainText"><i><span style="font-family:&quot\;A
	ptos&quot\;\,sans-serif">Invitation – må gerne videresendes<o:p></o:p><
	/span></i></p>\n<p class="MsoPlainText"><span style="font-family:&quot\;Ap
	tos&quot\;\,sans-serif"><o:p>&nbsp\;</o:p></span></p>\n<p class="MsoPlainT
	ext"><b><span style="font-family:&quot\;Aptos&quot\;\,sans-serif">Hej kær
	e kollega</span></b><span style="font-family:&quot\;Aptos&quot\;\,sans-ser
	if">\n</span><span style="font-family:&quot\;Segoe UI Emoji&quot\;\,sans-s
	erif">&#128694\;‍♀️</span><span style="font-family:&quot\;Aptos&quot
	\;\,sans-serif">\n<o:p></o:p></span></p>\n<p class="MsoPlainText"><span st
	yle="font-family:&quot\;Aptos&quot\;\,sans-serif">I maj inviteres du til a
	t være med i et maj‑athon\, hvor målet er enkelt:<br>\n20 minutters g
	åtur hver dag – på en måde der passer ind i din arbejdsdag.<o:p></o:p
	></span></p>\n<p class="MsoPlainText" style="margin-bottom:12.0pt"><span s
	tyle="font-family:&quot\;Aptos&quot\;\,sans-serif">Maj‑athon – Gå Med
	 i 20 minutter dagligt<o:p></o:p></span></p>\n<p class="MsoPlainText"><b><
	span style="font-family:&quot\;Aptos&quot\;\,sans-serif">Hvad går det ud 
	på?</span></b><span style="font-family:&quot\;Aptos&quot\;\,sans-serif"><
	br>\nDu vælger selv\, hvornår og hvordan du går:<br>\n– en pause i l
	øbet af dagen<br>\n– et gå‑møde<br>\n– en tur før eller efter ar
	bejde<br>\n– alene eller sammen med kolleger<o:p></o:p></span></p>\n<p c
	lass="MsoPlainText"><span style="font-family:&quot\;Aptos&quot\;\,sans-ser
	if"><br>\n<b>Hvornår:</b><br>\nHele maj måned<br>\n(20 minutter dagligt 
	– fleksibelt tidspunkt)<o:p></o:p></span></p>\n<p class="MsoPlainText"><
	span style="font-family:&quot\;Aptos&quot\;\,sans-serif"><br>\n<b>Hvor:</b
	><br>\nEn gåtur i nærområdet eller hvor det passer dig<o:p></o:p></span
	></p>\n<p class="MsoPlainText"><span style="font-family:&quot\;Aptos&quot\
	;\,sans-serif"><o:p>&nbsp\;</o:p></span></p>\n<p class="MsoPlainText" styl
	e="margin-bottom:12.0pt"><b><span style="font-family:&quot\;Aptos&quot\;\,
	sans-serif">Hvem går jeg med?<br>\n</span></b><span style="font-family:&q
	uot\;Aptos&quot\;\,sans-serif">Alle medarbejdere kan deltage og det kræve
	r ingen særlige forudsætninger.\n<br>\nDu kan tage en kollega eller fler
	e under armen og gå en tur\, du kan tage et gående møde eller holde en 
	hjernepause og gå en tur alene.\n<br>\nDet er helt op til dig – det vig
	tigste er at komme ud at gå hver dag. <b><o:p></o:p></b></span></p>\n<p c
	lass="MsoPlainText" style="margin-bottom:12.0pt"><b><span style="font-fami
	ly:&quot\;Aptos&quot\;\,sans-serif">Hvordan deltager du?</span></b><span s
	tyle="font-family:&quot\;Aptos&quot\;\,sans-serif"><br>\n</span><span styl
	e="font-family:&quot\;Aptos&quot\;\,sans-serif">Acceptér denne kalenderin
	vitation og brug den som din daglige påmindelse.<o:p></o:p></span></p>\n<
	p class="MsoPlainText" style="margin-bottom:12.0pt"><b><span style="font-f
	amily:&quot\;Aptos&quot\;\,sans-serif">Hvad kan du få ud af det?<br>\n</s
	pan></b><span style="font-family:&quot\;Aptos&quot\;\,sans-serif">Gåture 
	i løbet af en arbejdsdag kan give:<b><br>\n-</b> mere energi og forbedre 
	din koncentration<b><br>\n- </b>give<b> </b>bedre humør og mindre oplevet
	 stress<b><br>\n-</b> ilt til hjernen og en aktiv pause<b><o:p></o:p></b><
	/span></p>\n<p class="MsoPlainText"><b><span style="font-family:&quot\;Apt
	os&quot\;\,sans-serif">Find mere info</span></b><span style="font-family:&
	quot\;Aptos&quot\;\,sans-serif"> om kampagnen\n<a href="http://www.gaamed.
	dk/majathon-paa-arbejdspladsen/">gaamed.dk/majathon</a><o:p></o:p></span><
	/p>\n<p class="MsoPlainText"><span style="font-family:&quot\;Aptos&quot\;\
	,sans-serif">Eller deltag på Facebook\n<a href="https://eur03.safelinks.p
	rotection.outlook.com/?url=https%3A%2F%2Ffb.me%2Fe%2F9LAW17M5o&amp\;data=0
	5%7C02%7Chmscheller%40hjerteforeningen.dk%7C86d2fef6c719401da47c08de9927f5
	55%7Cd7fe13fe91f84625826d8b11d0d57852%7C0%7C0%7C639116594094662580%7CUnkno
	wn%7CTWFpbGZsb3d8eyJFbXB0eU1hcGkiOnRydWUsIlYiOiIwLjAuMDAwMCIsIlAiOiJXaW4zM
	iIsIkFOIjoiTWFpbCIsIldUIjoyfQ%3D%3D%7C0%7C%7C%7C&amp\;sdata=yA%2FqeKYbnRkT
	2Jv8BNhwx8VG13kf8jDhxQyBNCi0Y5Q%3D&amp\;reserved=0">\nher</a><o:p></o:p></
	span></p>\n<p class="MsoPlainText" style="margin-bottom:12.0pt"><span styl
	e="font-family:&quot\;Aptos&quot\;\,sans-serif">Er du på Strava – så k
	ig\n<a href="https://www.strava.com/clubs/2062943?utm_source=android_share
	&amp\;utm_medium=social&amp\;share_sig=WIDJC21F1775821864&amp\;_branch_mat
	ch_id=1572262837520715458&amp\;_branch_referrer=H4sIAAAAAAAAA8soKSkottLXLy
	4pSixL1EssKNDLyczL1i8Lc6tIKfYJSTFKsq8rSk1LLSrKzEuPTyrKLy9OLbJ1TUlPBQDnf5sp
	OwAAAA%3D%3D">\nher</a><o:p></o:p></span></p>\n<p class="MsoPlainText"><sp
	an style="font-family:&quot\;Aptos&quot\;\,sans-serif">Små skridt tæller
	 – og 20 minutters bevægelse kan gøre en stor forskel.<o:p></o:p></spa
	n></p>\n<p class="MsoPlainText"><span style="font-family:&quot\;Aptos&quot
	\;\,sans-serif">God fornøjelse med maj‑athon\n</span><span style="font-
	family:&quot\;Segoe UI Emoji&quot\;\,sans-serif">&#127807\;</span><span st
	yle="font-family:&quot\;Aptos&quot\;\,sans-serif"><o:p></o:p></span></p>\n
	<p class="MsoPlainText"><span style="font-family:&quot\;Aptos&quot\;\,sans
	-serif"><br>\n<b>Gå Med</b>&nbsp\; / Hjerteforeningen og TrygFondens inds
	ats for mere bevægelse i hverdagen&nbsp\;</span><span style="font-family:
	&quot\;Segoe UI Emoji&quot\;\,sans-serif">❤</span><span style="font-fami
	ly:&quot\;Aptos&quot\;\,sans-serif">\n<br>\n<br>\n<o:p></o:p></span></p>\n
	<p class="MsoPlainText"><span style="font-family:&quot\;Aptos&quot\;\,sans
	-serif">Kontakt: <a href="mailto:gaamed@hjerteforeningen.dk">\ngaamed@hjer
	teforeningen.dk</a> <o:p></o:p></span></p>\n<p class="MsoPlainText"><span 
	style="font-family:&quot\;Aptos&quot\;\,sans-serif"><o:p>&nbsp\;</o:p></sp
	an></p>\n<p class="MsoNormal"><o:p>&nbsp\;</o:p></p>\n</div>\n</body>\n</h
	tml>\n
X-MICROSOFT-CDO-BUSYSTATUS:BUSY
X-MICROSOFT-CDO-IMPORTANCE:1
X-MICROSOFT-DISALLOW-COUNTER:FALSE
BEGIN:VALARM
TRIGGER:-PT15M
ACTION:DISPLAY
DESCRIPTION:Reminder
END:VALARM
END:VEVENT
END:VCALENDAR
